BEGIN:VCALENDAR
VERSION:2.0
PRODID:-//Atlantic Tactical Firearms Trainers - ECPv6.15.20//NONSGML v1.0//EN
CALSCALE:GREGORIAN
METHOD:PUBLISH
X-WR-CALNAME:Atlantic Tactical Firearms Trainers
X-ORIGINAL-URL:https://salisburyfirearmsacademy.com
X-WR-CALDESC:Events for Atlantic Tactical Firearms Trainers
REFRESH-INTERVAL;VALUE=DURATION:PT1H
X-Robots-Tag:noindex
X-PUBLISHED-TTL:PT1H
BEGIN:VTIMEZONE
TZID:America/New_York
BEGIN:DAYLIGHT
TZOFFSETFROM:-0500
TZOFFSETTO:-0400
TZNAME:EDT
DTSTART:20250309T070000
END:DAYLIGHT
BEGIN:STANDARD
TZOFFSETFROM:-0400
TZOFFSETTO:-0500
TZNAME:EST
DTSTART:20251102T060000
END:STANDARD
BEGIN:DAYLIGHT
TZOFFSETFROM:-0500
TZOFFSETTO:-0400
TZNAME:EDT
DTSTART:20260308T070000
END:DAYLIGHT
BEGIN:STANDARD
TZOFFSETFROM:-0400
TZOFFSETTO:-0500
TZNAME:EST
DTSTART:20261101T060000
END:STANDARD
BEGIN:DAYLIGHT
TZOFFSETFROM:-0500
TZOFFSETTO:-0400
TZNAME:EDT
DTSTART:20270314T070000
END:DAYLIGHT
BEGIN:STANDARD
TZOFFSETFROM:-0400
TZOFFSETTO:-0500
TZNAME:EST
DTSTART:20271107T060000
END:STANDARD
END:VTIMEZONE
BEGIN:VEVENT
DTSTART;TZID=America/New_York:20260421T081500
DTEND;TZID=America/New_York:20260421T170000
DTSTAMP:20260421T025835
CREATED:20260304T152855Z
LAST-MODIFIED:20260304T152855Z
UID:10000294-1776759300-1776790800@salisburyfirearmsacademy.com
SUMMARY:MD CCW Renewal 4/21/2026 Tues
DESCRIPTION:Maryland CCW Renewal\nConducted by a Multi-discipline Certified Law Enforcement Instructor\nIn this class\, you will be certified to renew your Maryland Wear and Carry permit. \nCourse Duration: 8 hours\nCourse Cost: $150 *No refunds you can always reschedule a class time for up to one year.\nCourse Goal: The goal of this course is for you the citizen to gain the credit needed to renew your Concealed Carry permit in the State of Maryland.\nCourse Prerequisites: Current Maryland Conceal and Carry Permit \nCourse Subject Matter: \nPistol Knowledge and Safe Gun Handling\nConcealed carry options\nLegal understanding of the use of lethal force\nState laws pertaining to self-defense\nDefensive shooting tactics\nGear/Equipment to bring to course: \n50 Rounds of factory ammunition for your handgun\n.22\, .38 special\, 9mm\, or larger handgun or revolver *You must notify us at time of booking which firearm you are bringing. However\, for those who do not yet have a permit or own a firearm please contact the office to discuss options.\n3 speed loaders or magazines\nBelt-mounted\, dominant side holster\nMagazine / Speed loader pouches\nSturdy belt at least 1.5” wide\nFootwear suitable for rapid movement and turning/ No Open Toe Shoes\nBaseball style hat\nWraparound eye protection\nHearing protection\nA Jacket or shirt capable of covering the weapon\nClothing appropriate for climate and conditions \nCourse Completion: Upon successful completion of this orientation you will receive the\nMaryland renewal certificate. \n*No refunds\, you can always reschedule a class time for up to one year. \n**Honorably Discharged military and current Military members are exempt from the 16hr. Course. Ask about our optional veteran’s course to get all law training at a discounted price **
URL:https://salisburyfirearmsacademy.com/event/md-ccw-renewal-4-21-2026-tues/
CATEGORIES:Maryland Wear and Carry,mdccw renewal,Multi-State Certification
ATTACH;FMTTYPE=image/png:https://salisburyfirearmsacademy.com/storage/2024/04/mdrenewal-resized.png
ORGANIZER;CN="Atlantic Tactical Firearms Trainers":MAILTO:Bryan@atftrainers.com
END:VEVENT
BEGIN:VEVENT
DTSTART;TZID=America/New_York:20260421T081500
DTEND;TZID=America/New_York:20260421T170000
DTSTAMP:20260421T025835
CREATED:20260304T153001Z
LAST-MODIFIED:20260304T153001Z
UID:10000295-1776759300-1776790800@salisburyfirearmsacademy.com
SUMMARY:Delaware CCDW 4/21/2026 Tues
DESCRIPTION:Delaware CCDW\nDelaware Concealed Carry of a Deadly Weapon Permit\nConducted by a Multi-discipline Certified Law Enforcement Instructor\n*Must be a resident of Delaware to qualify for the Delaware CCDw. \nCourse Duration: 8 hours\nCourse Cost: $150\nCourse Goal: The goal of this course is for you the citizen to gain the credit needed to apply for a concealed carry permit from Delaware this course is also designed for those who wish to complete the first 8 hours of training towards your Maryland Wear and Carry. \nCourse Prerequisites: NONE \nCourse Subject Matter: \nPistol Knowledge and Safe Gun Handling\nConcealed carry options\nLegal understanding of the use of lethal force\nState laws pertaining to self-defense\nDefensive shooting tactics\nGear/Equipment to bring to course: \nA modern firearm (.38 Revolver or 9mm handgun or larger caliber) *for those who do not yet have a permit or own a firearm\, for a it will be provided by the Instructor- Please call the office if you do not have a handgun.\n3 speed loaders or magazines\nBelt-mounted\, dominant side concealment holster\nMagazine / Speed loader pouches\nSturdy belt at least 1.5” wide\nFootwear suitable for rapid movement and turning\nBaseball style hat\nEye protection\nHearing protection\nA Jacket or shirt capable of covering the weapon\nClothing appropriate for climate and conditions\nKnee pads (Optional)\nCourse Completion: Upon successful completion of this class you will receive your approved *Delaware CCDW certificate.\n* Must be a resident of Delaware \nBONUS!!!- Taking this course with us will give you the option to come back twice a month for FREE extra training. On the second and fourth Thursday of every month\, we hold classes that are free to our previous students to brush up on their knowledge and skills. \nPossible Locations: \nATFT Salisbury\, MD Classrooms and Range\nMobile Training Teams\n3rd Party Host Sites \n*No refunds\, you can always reschedule a class time for up to one year. \n 
URL:https://salisburyfirearmsacademy.com/event/delaware-ccdw-4-21-2026-tues/
CATEGORIES:Delaware CCDW
ATTACH;FMTTYPE=image/png:https://salisburyfirearmsacademy.com/storage/2024/04/de-event.png
ORGANIZER;CN="Atlantic Tactical Firearms Trainers":MAILTO:Bryan@atftrainers.com
END:VEVENT
END:VCALENDAR